{"text_format":"2","workbook":"xlsx","n_sheets":1,"sheets":["SEPDS"],"not_rendered":{"charts":0,"images":0,"macros":0,"external_links":1,"defined_names":3,"comments":0,"pivot_tables":0},"unopened":[],"bounds":{"document_bytes":16777216,"sheet_cells":100000,"run_cost":"one","rows_first":2000,"rows_last":500,"rows_between":2000,"halvings":0,"cell_chars":16384,"cell_head_chars":4096},"cells_cut":0,"cells_raw":0,"read":"whole","date_system":"1900"}

{"sheet":"SEPDS","index":0,"n_rows":26,"n_cols":14,"rows_kept":26,"cut":false,"hidden":false,"merged":[[0,10,0,13]]}
["NPA Summary End Product Data Schedule"]
["Information Certified as Accurate by USDA",null,null,"Revised","2025-12-05"]
["School Year","Processor Name","Product Status A=Approved\nN=New\nR=Revised\nX=Expired","End Product Code","End Product Description","Net Weight per Case (pound)","Servings per  Case","Net Weight per Serving (Ounces)","WBSCM USDA Foods Material Code","WBSCM USDA Foods Material Description","USDA Foods Inventory Drawdown per Case","USDA Foods Value per Pound","USDA Foods Value per Case","USDA Approval Date"]
["SY27","Chef's Corner","A","0111","Mandarin Orange Chicken",42,171,3.92,100113,{"$f":"VLOOKUP(I4,'[1]October 2025'!$A:$C,2,FALSE)","v":"CHICKEN LEGS CHILLED -BULK"},39.08,{"$f":"VLOOKUP(I4,'[1]October 2025'!$A:$C,3,FALSE)","v":0.7671},{"$f":"ROUND(K4*L4,2)","v":29.98},"2025-12-05"]
["SY27","Chef's Corner","A","0112","Honey Fire Chicken",42,171,3.92,100113,{"$f":"VLOOKUP(I5,'[1]October 2025'!$A:$C,2,FALSE)","v":"CHICKEN LEGS CHILLED -BULK"},39.08,{"$f":"VLOOKUP(I5,'[1]October 2025'!$A:$C,3,FALSE)","v":0.7671},29.98,"2025-12-05"]
["SY27","Chef's Corner","A","0113","Kung Pao Chicken",42,171,3.92,100113,{"$f":"VLOOKUP(I6,'[1]October 2025'!$A:$C,2,FALSE)","v":"CHICKEN LEGS CHILLED -BULK"},39.08,{"$f":"VLOOKUP(I6,'[1]October 2025'!$A:$C,3,FALSE)","v":0.7671},29.98,"2025-12-05"]
["SY27","Chef's Corner","A","0114","Korean BBQ Chicken",42,240,2.8,100113,{"$f":"VLOOKUP(I7,'[1]October 2025'!$A:$C,2,FALSE)","v":"CHICKEN LEGS CHILLED -BULK"},40.22,{"$f":"VLOOKUP(I7,'[1]October 2025'!$A:$C,3,FALSE)","v":0.7671},30.85,"2025-12-05"]
["SY27","Chef's Corner","A","0115","Battered Chicken",30,171,2.8,100113,{"$f":"VLOOKUP(I8,'[1]October 2025'!$A:$C,2,FALSE)","v":"CHICKEN LEGS CHILLED -BULK"},39.08,{"$f":"VLOOKUP(I8,'[1]October 2025'!$A:$C,3,FALSE)","v":0.7671},29.98,"2025-12-05"]
["SY27","Chef's Corner","A","0116","Cherry Blossom Chicken",42,171,3.92,100113,{"$f":"VLOOKUP(I9,'[1]October 2025'!$A:$C,2,FALSE)","v":"CHICKEN LEGS CHILLED -BULK"},39.08,{"$f":"VLOOKUP(I9,'[1]October 2025'!$A:$C,3,FALSE)","v":0.7671},29.98,"2025-12-05"]
["SY27","Chef's Corner","A","0117","Teriyaki Chicken",42,240,2.8,100113,{"$f":"VLOOKUP(I10,'[1]October 2025'!$A:$C,2,FALSE)","v":"CHICKEN LEGS CHILLED -BULK"},40.22,{"$f":"VLOOKUP(I10,'[1]October 2025'!$A:$C,3,FALSE)","v":0.7671},30.85,"2025-12-05"]
["SY27","Chef's Corner","A","0118","Simply Chicken",40,320,2,100113,{"$f":"VLOOKUP(I11,'[1]October 2025'!$A:$C,2,FALSE)","v":"CHICKEN LEGS CHILLED -BULK"},53.57,{"$f":"VLOOKUP(I11,'[1]October 2025'!$A:$C,3,FALSE)","v":0.7671},41.09,"2025-12-05"]
["SY27","Chef's Corner","A","0119","Kung Pao Chicken",42,240,2.8,100113,{"$f":"VLOOKUP(I12,'[1]October 2025'!$A:$C,2,FALSE)","v":"CHICKEN LEGS CHILLED -BULK"},40.22,{"$f":"VLOOKUP(I12,'[1]October 2025'!$A:$C,3,FALSE)","v":0.7671},30.85,"2025-12-05"]
["SY27","Chef's Corner","A","0122","Spicy Szechuan Chicken",42,240,2.8,100113,{"$f":"VLOOKUP(I13,'[1]October 2025'!$A:$C,2,FALSE)","v":"CHICKEN LEGS CHILLED -BULK"},40.22,{"$f":"VLOOKUP(I13,'[1]October 2025'!$A:$C,3,FALSE)","v":0.7671},30.85,"2025-12-05"]
["SY27","Chef's Corner","A","0127","Mandarin Mango Chicken",42,171,3.92,100113,{"$f":"VLOOKUP(I14,'[1]October 2025'!$A:$C,2,FALSE)","v":"CHICKEN LEGS CHILLED -BULK"},39.08,{"$f":"VLOOKUP(I14,'[1]October 2025'!$A:$C,3,FALSE)","v":0.7671},29.98,"2025-12-05"]
["SY27","Chef's Corner","A","0130","Gluten Free Teriyaki Chicken",42,240,2.8,100113,{"$f":"VLOOKUP(I15,'[1]October 2025'!$A:$C,2,FALSE)","v":"CHICKEN LEGS CHILLED -BULK"},40.22,{"$f":"VLOOKUP(I15,'[1]October 2025'!$A:$C,3,FALSE)","v":0.7671},30.85,"2025-12-05"]
["SY27","Chef's Corner","A","0131","Thai Chili Chicken",42,240,2.8,100113,{"$f":"VLOOKUP(I16,'[1]October 2025'!$A:$C,2,FALSE)","v":"CHICKEN LEGS CHILLED -BULK"},40.22,{"$f":"VLOOKUP(I16,'[1]October 2025'!$A:$C,3,FALSE)","v":0.7671},30.85,"2025-12-05"]
["SY27","Chef's Corner","A","0132","General Tso Chicken",42,171,3.92,100113,{"$f":"VLOOKUP(I17,'[1]October 2025'!$A:$C,2,FALSE)","v":"CHICKEN LEGS CHILLED -BULK"},39.08,{"$f":"VLOOKUP(I17,'[1]October 2025'!$A:$C,3,FALSE)","v":0.7671},29.98,"2025-12-05"]
["SY27","Chef's Corner","A","0133","Lemongrass Chicken",42,171,3.92,100113,{"$f":"VLOOKUP(I18,'[1]October 2025'!$A:$C,2,FALSE)","v":"CHICKEN LEGS CHILLED -BULK"},39.08,{"$f":"VLOOKUP(I18,'[1]October 2025'!$A:$C,3,FALSE)","v":0.7671},29.98,"2025-12-05"]
["SY27","Chef's Corner","A","0134","Spicy Buffalo Chicken",42,171,3.92,100113,{"$f":"VLOOKUP(I19,'[1]October 2025'!$A:$C,2,FALSE)","v":"CHICKEN LEGS CHILLED -BULK"},39.08,{"$f":"VLOOKUP(I19,'[1]October 2025'!$A:$C,3,FALSE)","v":0.7671},29.98,"2025-12-05"]
["SY27","Chef's Corner","A","0135","Sweet Thai Chili Chicken",42,171,3.92,100113,{"$f":"VLOOKUP(I20,'[1]October 2025'!$A:$C,2,FALSE)","v":"CHICKEN LEGS CHILLED -BULK"},39.08,{"$f":"VLOOKUP(I20,'[1]October 2025'!$A:$C,3,FALSE)","v":0.7671},29.98,"2025-12-05"]
["SY27","Chef's Corner","A","0136","Grilled Mandarin Orange Chicken",42,240,2.8,100113,{"$f":"VLOOKUP(I21,'[1]October 2025'!$A:$C,2,FALSE)","v":"CHICKEN LEGS CHILLED -BULK"},40.22,{"$f":"VLOOKUP(I21,'[1]October 2025'!$A:$C,3,FALSE)","v":0.7671},30.85,"2025-12-05"]
["SY27","Chef's Corner","A","0137","Sriracha Honey Chicken",42,171,3.92,100113,{"$f":"VLOOKUP(I22,'[1]October 2025'!$A:$C,2,FALSE)","v":"CHICKEN LEGS CHILLED -BULK"},39.08,{"$f":"VLOOKUP(I22,'[1]October 2025'!$A:$C,3,FALSE)","v":0.7671},29.98,"2025-12-05"]
["SY27","Chef's Corner","A","0138","Chasu BBQ Chicken",40,320,2,100113,{"$f":"VLOOKUP(I23,'[1]October 2025'!$A:$C,2,FALSE)","v":"CHICKEN LEGS CHILLED -BULK"},53.57,{"$f":"VLOOKUP(I23,'[1]October 2025'!$A:$C,3,FALSE)","v":0.7671},41.09,"2025-12-05"]
["SY27","Chef's Corner","A","0139","Mediterranean Shawarma Chicken",40,320,2,100113,{"$f":"VLOOKUP(I24,'[1]October 2025'!$A:$C,2,FALSE)","v":"CHICKEN LEGS CHILLED -BULK"},53.57,{"$f":"VLOOKUP(I24,'[1]October 2025'!$A:$C,3,FALSE)","v":0.7671},41.09,"2025-12-05"]
["SY27","Chef's Corner","A","0500","Chicken Eggroll",15,96,2.5,100113,{"$f":"VLOOKUP(I25,'[1]October 2025'!$A:$C,2,FALSE)","v":"CHICKEN LEGS CHILLED -BULK"},14.32,{"$f":"VLOOKUP(I25,'[1]October 2025'!$A:$C,3,FALSE)","v":0.7671},10.98,"2025-12-05"]
["SY27","Chef's Corner","A","5555","Southwest Eggroll",15.75,84,3,100113,{"$f":"VLOOKUP(I26,'[1]October 2025'!$A:$C,2,FALSE)","v":"CHICKEN LEGS CHILLED -BULK"},4.4800000000000004,{"$f":"VLOOKUP(I26,'[1]October 2025'!$A:$C,3,FALSE)","v":0.7671},3.44,"2025-12-05"]